BEGIN:VCALENDAR
VERSION:2.0
PRODID:-//Backyard Butterflies - ECPv6.15.20//NONSGML v1.0//EN
CALSCALE:GREGORIAN
METHOD:PUBLISH
X-ORIGINAL-URL:https://www.backyardbutterflies.org
X-WR-CALDESC:Events for Backyard Butterflies
REFRESH-INTERVAL;VALUE=DURATION:PT1H
X-Robots-Tag:noindex
X-PUBLISHED-TTL:PT1H
BEGIN:VTIMEZONE
TZID:America/New_York
BEGIN:DAYLIGHT
TZOFFSETFROM:-0500
TZOFFSETTO:-0400
TZNAME:EDT
DTSTART:20230312T070000
END:DAYLIGHT
BEGIN:STANDARD
TZOFFSETFROM:-0400
TZOFFSETTO:-0500
TZNAME:EST
DTSTART:20231105T060000
END:STANDARD
BEGIN:DAYLIGHT
TZOFFSETFROM:-0500
TZOFFSETTO:-0400
TZNAME:EDT
DTSTART:20240310T070000
END:DAYLIGHT
BEGIN:STANDARD
TZOFFSETFROM:-0400
TZOFFSETTO:-0500
TZNAME:EST
DTSTART:20241103T060000
END:STANDARD
BEGIN:DAYLIGHT
TZOFFSETFROM:-0500
TZOFFSETTO:-0400
TZNAME:EDT
DTSTART:20250309T070000
END:DAYLIGHT
BEGIN:STANDARD
TZOFFSETFROM:-0400
TZOFFSETTO:-0500
TZNAME:EST
DTSTART:20251102T060000
END:STANDARD
END:VTIMEZONE
BEGIN:VEVENT
DTSTART;TZID=America/New_York:20240811T090000
DTEND;TZID=America/New_York:20240811T150000
DTSTAMP:20260425T065626
CREATED:20240116T173459Z
LAST-MODIFIED:20240116T173459Z
UID:27756-1723366800-1723388400@www.backyardbutterflies.org
SUMMARY:Durham County NABA Count
DESCRIPTION:Local butterfly expert Jeff Pippen has been conducting the Durham County NABA butterfly count since 1999. He welcomes new participants to the count. Experienced counters will be assigned their own location to survey. Visit Jeff’s website for more info.
URL:https://www.backyardbutterflies.org/event/durham-county-naba-count-2/
LOCATION:North Carolina
CATEGORIES:NABA Count
ATTACH;FMTTYPE=image/jpeg:https://www.backyardbutterflies.org/wp-content/uploads/2021/12/Duke-Forest.jpg
ORGANIZER;CN="Jeff Pippen":MAILTO:jeffpippen9@gmail.com
END:VEVENT
END:VCALENDAR