BEGIN:VCALENDAR
VERSION:2.0
PRODID:-//Backyard Butterflies - ECPv6.15.20//NONSGML v1.0//EN
CALSCALE:GREGORIAN
METHOD:PUBLISH
X-ORIGINAL-URL:https://www.backyardbutterflies.org
X-WR-CALDESC:Events for Backyard Butterflies
REFRESH-INTERVAL;VALUE=DURATION:PT1H
X-Robots-Tag:noindex
X-PUBLISHED-TTL:PT1H
BEGIN:VTIMEZONE
TZID:America/New_York
BEGIN:DAYLIGHT
TZOFFSETFROM:-0500
TZOFFSETTO:-0400
TZNAME:EDT
DTSTART:20240310T070000
END:DAYLIGHT
BEGIN:STANDARD
TZOFFSETFROM:-0400
TZOFFSETTO:-0500
TZNAME:EST
DTSTART:20241103T060000
END:STANDARD
BEGIN:DAYLIGHT
TZOFFSETFROM:-0500
TZOFFSETTO:-0400
TZNAME:EDT
DTSTART:20250309T070000
END:DAYLIGHT
BEGIN:STANDARD
TZOFFSETFROM:-0400
TZOFFSETTO:-0500
TZNAME:EST
DTSTART:20251102T060000
END:STANDARD
BEGIN:DAYLIGHT
TZOFFSETFROM:-0500
TZOFFSETTO:-0400
TZNAME:EDT
DTSTART:20260308T070000
END:DAYLIGHT
BEGIN:STANDARD
TZOFFSETFROM:-0400
TZOFFSETTO:-0500
TZNAME:EST
DTSTART:20261101T060000
END:STANDARD
BEGIN:DAYLIGHT
TZOFFSETFROM:-0500
TZOFFSETTO:-0400
TZNAME:EDT
DTSTART:20270314T070000
END:DAYLIGHT
BEGIN:STANDARD
TZOFFSETFROM:-0400
TZOFFSETTO:-0500
TZNAME:EST
DTSTART:20271107T060000
END:STANDARD
END:VTIMEZONE
BEGIN:VEVENT
DTSTART;TZID=America/New_York:20250818T090000
DTEND;TZID=America/New_York:20250818T150000
DTSTAMP:20260425T104112
CREATED:20241217T204849Z
LAST-MODIFIED:20241217T212553Z
UID:29785-1755507600-1755529200@www.backyardbutterflies.org
SUMMARY:Hanging Rock SP NABA Butterfly Count
DESCRIPTION:Join us at Hanging Rock State Park for the annual NABA butterfly count. No previous experience required. Contact Brian Bockhahn to register to participate.
URL:https://www.backyardbutterflies.org/event/hanging-rock-2025/
LOCATION:Hanging Rock\, 1160 Camp Sertoma Dr\, Danbury\, NC\, 27016
CATEGORIES:NABA Count
ATTACH;FMTTYPE=image/jpeg:https://www.backyardbutterflies.org/wp-content/uploads/2020/12/August-19-Hanging-Rock-NABA-26-of-33-scaled.jpg
END:VEVENT
BEGIN:VEVENT
DTSTART;TZID=America/New_York:20250819T090000
DTEND;TZID=America/New_York:20250819T150000
DTSTAMP:20260425T104112
CREATED:20241217T211527Z
LAST-MODIFIED:20241217T212446Z
UID:29787-1755594000-1755615600@www.backyardbutterflies.org
SUMMARY:Mayo River SP NABA Butterfly Count
DESCRIPTION:Join us at Mayo River State Park for the annual NABA butterfly count. No previous experience required. Contact Brian Bockhahn to register to participate.
URL:https://www.backyardbutterflies.org/event/mayo-river-2025/
LOCATION:Mayo River State Park\, 500 Old Mayo Park Road\, Mayodan\, North Carolina\, 27027
CATEGORIES:NABA Count
ATTACH;FMTTYPE=image/jpeg:https://www.backyardbutterflies.org/wp-content/uploads/2021/12/Mayo-River-SP.jpg
END:VEVENT
BEGIN:VEVENT
DTSTART;TZID=America/New_York:20250825T090000
DTEND;TZID=America/New_York:20250825T150000
DTSTAMP:20260425T104112
CREATED:20241217T212330Z
LAST-MODIFIED:20241217T212707Z
UID:29799-1756112400-1756134000@www.backyardbutterflies.org
SUMMARY:Pilot Mountain SP NABA Butterfly Count
DESCRIPTION:Join us at Pilot Mountain State Park for the annual NABA butterfly count. No previous experience required. Contact Brian Bockhahn to register to participate.
URL:https://www.backyardbutterflies.org/event/pilot-mountain-sp-naba-butterfly-count/
LOCATION:Pilot Mountain State Park\, 1792 Pilot Knob Park Rd\, Pinnacle\, North Carolina\, 27043
CATEGORIES:NABA Count
ATTACH;FMTTYPE=image/jpeg:https://www.backyardbutterflies.org/wp-content/uploads/2021/12/IMG_20210823_111939507-scaled-e1640025697732.jpg
END:VEVENT
BEGIN:VEVENT
DTSTART;TZID=America/New_York:20260328T190000
DTEND;TZID=America/New_York:20260328T220000
DTSTAMP:20260425T104112
CREATED:20260313T145219Z
LAST-MODIFIED:20260313T150224Z
UID:32660-1774724400-1774735200@www.backyardbutterflies.org
SUMMARY:March 28 - Moth Night at Brumley NP
DESCRIPTION:We’re starting off our expanded series of moth nights in 2026 with an early March date. Attendees are encouraged to visit seasonally to see the “limited time only” moths that have a short flight period during the early spring. These species are seen only this time of year – so don’t miss your chance to meet some new moth friends! \nFor our moth events we recommend wearing proper outdoor attire like for hiking: long pants\, sturdy close-toe shoes\, snug fitting shirts. Dress for safety and warmth\, not necessarily for comfort.  \nBring with you a headlamp or flashlight. Camera is optional\, but encouraged to be part of the citizen science! \nRegistration is required for this event. Click below to register for this event: \nMoth Night
URL:https://www.backyardbutterflies.org/event/march-28-mothnight/
LOCATION:Brumley Forest NP\, 3055 New Hope Church Rd\, Chapel Hill\, NC\, 27514
CATEGORIES:Moth Night
ATTACH;FMTTYPE=image/png:https://www.backyardbutterflies.org/wp-content/uploads/2026/03/March-28-Moth-Night.png
ORGANIZER;CN="Backyard Butterflies":MAILTO:admin@backyardbutterflies.org
END:VEVENT
BEGIN:VEVENT
DTSTART;TZID=America/New_York:20260425T200000
DTEND;TZID=America/New_York:20260425T230000
DTSTAMP:20260425T104112
CREATED:20260313T150331Z
LAST-MODIFIED:20260313T150331Z
UID:32665-1777147200-1777158000@www.backyardbutterflies.org
SUMMARY:April 25 - Moth Night at Brumley NP
DESCRIPTION:We’re starting off our expanded series of moth nights in 2026 with an early March date. Attendees are encouraged to visit seasonally to see the “limited time only” moths that have a short flight period during the early spring. These species are seen only this time of year – so don’t miss your chance to meet some new moth friends! \nFor our moth events we recommend wearing proper outdoor attire like for hiking: long pants\, sturdy close-toe shoes\, snug fitting shirts. Dress for safety and warmth\, not necessarily for comfort.  \nBring with you a headlamp or flashlight. Camera is optional\, but encouraged to be part of the citizen science! \nRegistration is required for this event. Click below to register for this event: \nMoth Night
URL:https://www.backyardbutterflies.org/event/april-25-mothnight/
LOCATION:Brumley Forest NP\, 3055 New Hope Church Rd\, Chapel Hill\, NC\, 27514
CATEGORIES:Moth Night
ATTACH;FMTTYPE=image/png:https://www.backyardbutterflies.org/wp-content/uploads/2026/03/April-25-Moth-Night.png
ORGANIZER;CN="Backyard Butterflies":MAILTO:admin@backyardbutterflies.org
END:VEVENT
END:VCALENDAR