BEGIN:VCALENDAR
VERSION:2.0
PRODID:-//Backyard Butterflies - ECPv6.15.20//NONSGML v1.0//EN
CALSCALE:GREGORIAN
METHOD:PUBLISH
X-ORIGINAL-URL:https://www.backyardbutterflies.org
X-WR-CALDESC:Events for Backyard Butterflies
REFRESH-INTERVAL;VALUE=DURATION:PT1H
X-Robots-Tag:noindex
X-PUBLISHED-TTL:PT1H
BEGIN:VTIMEZONE
TZID:America/New_York
BEGIN:DAYLIGHT
TZOFFSETFROM:-0500
TZOFFSETTO:-0400
TZNAME:EDT
DTSTART:20180311T070000
END:DAYLIGHT
BEGIN:STANDARD
TZOFFSETFROM:-0400
TZOFFSETTO:-0500
TZNAME:EST
DTSTART:20181104T060000
END:STANDARD
BEGIN:DAYLIGHT
TZOFFSETFROM:-0500
TZOFFSETTO:-0400
TZNAME:EDT
DTSTART:20190310T070000
END:DAYLIGHT
BEGIN:STANDARD
TZOFFSETFROM:-0400
TZOFFSETTO:-0500
TZNAME:EST
DTSTART:20191103T060000
END:STANDARD
BEGIN:DAYLIGHT
TZOFFSETFROM:-0500
TZOFFSETTO:-0400
TZNAME:EDT
DTSTART:20200308T070000
END:DAYLIGHT
BEGIN:STANDARD
TZOFFSETFROM:-0400
TZOFFSETTO:-0500
TZNAME:EST
DTSTART:20201101T060000
END:STANDARD
BEGIN:DAYLIGHT
TZOFFSETFROM:-0500
TZOFFSETTO:-0400
TZNAME:EDT
DTSTART:20210314T070000
END:DAYLIGHT
BEGIN:STANDARD
TZOFFSETFROM:-0400
TZOFFSETTO:-0500
TZNAME:EST
DTSTART:20211107T060000
END:STANDARD
END:VTIMEZONE
BEGIN:VEVENT
DTSTART;TZID=America/New_York:20200405T140000
DTEND;TZID=America/New_York:20200405T150000
DTSTAMP:20260423T091324
CREATED:20200303T203436Z
LAST-MODIFIED:20200328T033306Z
UID:5107-1586095200-1586098800@www.backyardbutterflies.org
SUMMARY:Annual Brown Elfin Walk
DESCRIPTION:We believe butterfly walks can be conducted as long as we uphold the recommended 6+ feet from one another and keep the group size to 10 or less. About the only time there could be crowding is when we are all trying to get a look at these very small butterflies at the same time. If we’re patient we should all be able to see these “limited time only” butterflies. \n\n\n\nWe will meet in the parking lot area near the map bulletin board. This will be a brief walk lasting about an hour. If there is interest we can look around for additional early butterflies. \n\n\n\nThis walk will take place even if the weather is cool and overcast. We have sighted the Brown and Henry’s Elfins under such conditions. Please reserve your space for this butterfly walk as spaces are limited\, and if we need to contact you about any changes to the event. If needed we will add additional times to accommodate more than 10 people. \n\n\n\nPlease wear sturdy shoes or footwear designed for hiking at the trail is gravel\, inclined\, and uneven. Bring with you any other necessities you may require for an enjoyable walk. Amenities at this park are composting toilets. \n\n\n\nThere are numerous fast food restaurants within a mile of the park. \n\n\n\nIf you wish to photograph the Brown Elfin be sure to have a zoom lens as the butterfly is quite flighty. A close-up is possible if you are willing to patiently wait near a laurel bush. Additional sightings of anglewings\, Juvenal’s Duskywings\, and Mourning Cloaks are possible.
URL:https://www.backyardbutterflies.org/event/brown-elfin-walk-2/
LOCATION:Occoneechee Mountain State Park\, 625 Virginia Cates Road\, Hillsborough\, NC\, 27278\, United States
CATEGORIES:Walks
ATTACH;FMTTYPE=image/jpeg:https://www.backyardbutterflies.org/wp-content/uploads/2020/03/33635280268_51467bf55b_o-e1583679108586.jpg
ORGANIZER;CN="Backyard Butterflies":MAILTO:admin@backyardbutterflies.org
END:VEVENT
BEGIN:VEVENT
DTSTART;TZID=America/New_York:20190511T130000
DTEND;TZID=America/New_York:20190511T150000
DTSTAMP:20260423T091324
CREATED:20181205T051127Z
LAST-MODIFIED:20190509T134508Z
UID:1632-1557579600-1557586800@www.backyardbutterflies.org
SUMMARY:Puddling Tiger Swallowtails at Brumley Forest NP
DESCRIPTION:[dimage attachment_id=”1634″ control=true auto-rotate=true zoom_level=”50″ anim_speed=”0.25″] \n**EVENT CANCELLED DUE TO FORECAST OF RAIN**\nMeet up for this walk will be the main parking lot near the map display. If there have been recent rains there is a chance we might encounter puddling butterflies at a known mud hole. If not\, there will be opportunities to experience some of the best butterflying in Orange County. \nBrumley Forest Nature Preserve has multiple areas in which to see large numbers of certain species of butterfly. We hope to have timed this walk perfectly to experience numerous Great Spangle Fritillaries in a quaint glade off one of the trails. There are “sweet spots” throughout the preserve in which one may find an abundance of Orange Sulphurs\, Silvery Checkerspots\, Carolina Satyrs\, and puddling male Tiger Swallowtails. \nBe sure to bring a camera as there is always something photoworthy while hiking through the preserve. We recommend wearing hiking shoes or boots as the trails can be muddy. Bug spray is optional as it is still early in the season. Please bring beverages or a snack if you require them. A questionable port-a-potty is available. No flush toilets or other amenities. The town of Hillsborough is about three miles away. \nVideo is of some puddling male Tiger Swallowtails observed on May 11\, 2017. \nhttps://www.backyardbutterflies.org/wp-content/uploads/2018/12/puddlingTigers.mp4
URL:https://www.backyardbutterflies.org/event/puddling-tigers/
LOCATION:Brumley Forest NP\, 3055 New Hope Church Rd\, Chapel Hill\, NC\, 27514
CATEGORIES:Walks
ATTACH;FMTTYPE=image/jpeg:https://www.backyardbutterflies.org/wp-content/uploads/2018/12/Brumley-6-of-20-e1547661549792.jpg
ORGANIZER;CN="Backyard Butterflies":MAILTO:admin@backyardbutterflies.org
END:VEVENT
BEGIN:VEVENT
DTSTART;TZID=America/New_York:20190420T100000
DTEND;TZID=America/New_York:20190420T120000
DTSTAMP:20260423T091324
CREATED:20181130T222944Z
LAST-MODIFIED:20190116T175430Z
UID:570-1555754400-1555761600@www.backyardbutterflies.org
SUMMARY:Brumley Forest Earth Day Walk
DESCRIPTION:[dimage attachment_id=”1428″ control=true auto-rotate=true zoom_level=”50″ anim_speed=”0.25″]\nThis walk is the practical half of the Let’s Go Butterflying class hosted at Wild Birds Unlimited in Chapel Hill. Everyone is welcome to participate in the walk–attendance of the class is not necessary. \nThis walk will cover multiple areas where the first butterflies of the year can be seen. We expect to have sightings of American Ladies\, Common Buckeyes\, Orange Sulphurs\, newly arrived Monarchs\, Tiger Swallowtails\, assorted early Hairstreaks\, anglewings\, and maybe a grass skipper or two. We will show you a known butterfly puddling spot\, and if it has recently rained we may get lucky to see a gathering of Tiger Swallowtails. \nBrumley has an impressive stand of common milkweeds that will be starting to grow. We might be able to see caterpillars if the spring proves to be warm. \nBe sure to bring a camera as there is always something photoworthy while hiking through the preserve. We recommend wearing hiking shoes or boots as the trails can be muddy. Bug spray is optional as it is still early in the season. Please bring beverages or a snack if you require them. A questionable port-a-potty is available. No flush toilets or other amenities. The town of Hillsborough is about three miles away.
URL:https://www.backyardbutterflies.org/event/brumley-forest-earth-day-walk/
LOCATION:Brumley Forest NP\, 3055 New Hope Church Rd\, Chapel Hill\, NC\, 27514
CATEGORIES:Class,Walks
ATTACH;FMTTYPE=image/jpeg:https://www.backyardbutterflies.org/wp-content/uploads/2018/11/april26-7-of-34-e1547661202544.jpg
ORGANIZER;CN="Backyard Butterflies":MAILTO:admin@backyardbutterflies.org
END:VEVENT
BEGIN:VEVENT
DTSTART;TZID=America/New_York:20190331T090000
DTEND;TZID=America/New_York:20190331T103000
DTSTAMP:20260423T091324
CREATED:20181115T091544Z
LAST-MODIFIED:20190116T174305Z
UID:554-1554022800-1554028200@www.backyardbutterflies.org
SUMMARY:Brown Elfin Walk at Occoneechee Mountain State Park
DESCRIPTION:We will meet in the parking lot area near the map bulletin board. This will be a brief walk lasting about an hour. If there is interest we can look around for additional early butterflies. \nThis walk will take place even if the weather is cool and overcast. We have sighted the Brown and Henry’s Elfins under such conditions. If the day is rained out there will be another opportunity to see the Brown Elfin at Pilot Mountain on Wednesday\, April 3\, 2019. We can also schedule a personal walk to look for Brown Elfins upon request. Please register for this event to receive updates pertaining to the weather or other unforeseen circumstances. \nPlease wear sturdy shoes or footwear designed for hiking at the trail is gravel\, inclined\, and uneven. Bring with you any other necessities you may require for an enjoyable walk. Amenities at this park are composting toilets. \nThere are numerous fast food restaurants within a mile of the park. \nIf you wish to photograph the Brown Elfin be sure to have a zoom lens as the butterfly is quite flighty. A close-up is possible if you are willing to patiently wait near a laurel bush. Additional sightings of anglewings\, Juvenal’s Duskywings\, and Mourning Cloaks are possible. \nBrown Elfin at Occoneechee Mountain State Park
URL:https://www.backyardbutterflies.org/event/brown-elfin-walk/
LOCATION:Occoneechee Mountain State Park\, 625 Virginia Cates Road\, Hillsborough\, NC\, 27278\, United States
CATEGORIES:Walks
ATTACH;FMTTYPE=image/jpeg:https://www.backyardbutterflies.org/wp-content/uploads/2018/12/march28-7-of-18-e1547660766682.jpg
ORGANIZER;CN="Backyard Butterflies":MAILTO:admin@backyardbutterflies.org
END:VEVENT
BEGIN:VEVENT
DTSTART;TZID=America/New_York:20190223T100000
DTEND;TZID=America/New_York:20190223T120000
DTSTAMP:20260423T091324
CREATED:20190207T012033Z
LAST-MODIFIED:20190207T013905Z
UID:3060-1550916000-1550923200@www.backyardbutterflies.org
SUMMARY:Wise Wonderful Women: Hike at Blackwood Farm Park
DESCRIPTION:Join us for our second monthly hike at Blackwood Farm Park just outside of Hillsborough on Hwy 86! \nThis hike should be suitable for beginners as the trails are easily navigated and traverse gentle terrain. It is recommended to wear sturdy footwear as the natural trails may be muddy. \nThe total loop of 3.3 miles has been planned to fill the majority of the two hours scheduled if the group walks at a leisurely pace. There is no requirement to complete the entire distance or walk at any required speed. These walks are for socializing\, and when spring and summer arrives\, to conduct nature walks. \n \nBlackwood Farm Park has public restrooms\, picnic area\, and 4 miles of trails on approximately 152 acres. In the spring and summer there are wildflowers\, butterflies\, dragonflies\, birds\, and more to observe while enjoying a leisurely stroll through the old farm fields. \nRegistration is appreciated in case there are changes or updates. If you are not a member of the Wise Wonderful Women group on Facebook and would like to join us\, please register here\, or consider joining us! If you are already a member\, simply indicate you plan to go on the events listing. If you have any questions or comments\, please contact Lori
URL:https://www.backyardbutterflies.org/event/wise-wonderful-women-hike-at-blackwood-farm-park/
LOCATION:Blackwood Farm Park\, 4215 NC-86\, Chapel Hill\, North Carolina\, 27514
CATEGORIES:Walks
ATTACH;FMTTYPE=image/jpeg:https://www.backyardbutterflies.org/wp-content/uploads/2019/02/C360_2016-05-09-16-33-22-719-e1549503502386.jpg
ORGANIZER;CN="Backyard Butterflies":MAILTO:admin@backyardbutterflies.org
END:VEVENT
BEGIN:VEVENT
DTSTART;TZID=America/New_York:20190126T100000
DTEND;TZID=America/New_York:20190126T120000
DTSTAMP:20260423T091324
CREATED:20190101T180913Z
LAST-MODIFIED:20190116T184338Z
UID:2190-1548496800-1548504000@www.backyardbutterflies.org
SUMMARY:Wise Wonderful Women: Hike to Craig Manor at Brumley Forest NP
DESCRIPTION:Stony Creek along trail at Brumley Forest NP North Section \nLet’s start off 2019 with a hiking adventure at Brumley Forest Nature Preserve! Located a few miles outside of downtown Hillsborough\, this preserve offers an assortment of trails for most experience levels. The hike to the Craig Manor is moderate difficulty and will take about 60 to 90 minutes depending on your speed/pace if you walk the entire 3.5 mile looped route. You may walk any amount of the route and at any speed. \nAt this time of year there will not be a lot of plants or insects to observe\, but we should see a lot of bird activity. I like walking this time of year because it gives a baseline of how Nature looks during Her winter rest. \nTrail conditions are packed dirt that have mostly been cleared of roots and other trip hazards. Parts of the trails are through cut\, thick field grasses. It is strongly recommended to wear sturdy shoes or hiking footwear. \nWhile there are questionable port-a-potties located at the main access entry\, it’s best to consider there are no restroom facilities at this location\, nor water fountains or other public amenities. There is an area for picnicking and rest near the pond off of Flat tail Trail. Otherwise there are no benches along the way for resting. \nThis hiking adventure will take place rain or shine. Cancellation will only be in the case of below freezing temperatures\, ice or snow storm. Please dress according to the weather conditions. \nBe courteous and register that you will participate in this hike! By registering you will receive updates about hiking plans\, and it allows the hike leader to expect your attendance so that you can be with the group. You may cancel your registration if you have a change in plans. Registration is free and easy to do. If you have any questions\, please contact Lori. \n[rtec-registration-form event=2190] \n[dimage attachment_id=”2217″ control=true auto-rotate=true zoom_level=”50″ anim_speed=”0.25″]
URL:https://www.backyardbutterflies.org/event/wwwjancraigmanor/
LOCATION:Brumley Forest NP\, 3055 New Hope Church Rd\, Chapel Hill\, NC\, 27514
CATEGORIES:Walks
ATTACH;FMTTYPE=image/jpeg:https://www.backyardbutterflies.org/wp-content/uploads/2019/01/brumleystonybluff-scaled.jpg
ORGANIZER;CN="Backyard Butterflies":MAILTO:admin@backyardbutterflies.org
END:VEVENT
END:VCALENDAR