BEGIN:VCALENDAR
VERSION:2.0
PRODID:-//Backyard Butterflies - ECPv6.15.20//NONSGML v1.0//EN
CALSCALE:GREGORIAN
METHOD:PUBLISH
X-WR-CALNAME:Backyard Butterflies
X-ORIGINAL-URL:https://www.backyardbutterflies.org
X-WR-CALDESC:Events for Backyard Butterflies
REFRESH-INTERVAL;VALUE=DURATION:PT1H
X-Robots-Tag:noindex
X-PUBLISHED-TTL:PT1H
BEGIN:VTIMEZONE
TZID:America/New_York
BEGIN:DAYLIGHT
TZOFFSETFROM:-0500
TZOFFSETTO:-0400
TZNAME:EDT
DTSTART:20180311T070000
END:DAYLIGHT
BEGIN:STANDARD
TZOFFSETFROM:-0400
TZOFFSETTO:-0500
TZNAME:EST
DTSTART:20181104T060000
END:STANDARD
BEGIN:DAYLIGHT
TZOFFSETFROM:-0500
TZOFFSETTO:-0400
TZNAME:EDT
DTSTART:20190310T070000
END:DAYLIGHT
BEGIN:STANDARD
TZOFFSETFROM:-0400
TZOFFSETTO:-0500
TZNAME:EST
DTSTART:20191103T060000
END:STANDARD
BEGIN:DAYLIGHT
TZOFFSETFROM:-0500
TZOFFSETTO:-0400
TZNAME:EDT
DTSTART:20200308T070000
END:DAYLIGHT
BEGIN:STANDARD
TZOFFSETFROM:-0400
TZOFFSETTO:-0500
TZNAME:EST
DTSTART:20201101T060000
END:STANDARD
BEGIN:DAYLIGHT
TZOFFSETFROM:-0500
TZOFFSETTO:-0400
TZNAME:EDT
DTSTART:20210314T070000
END:DAYLIGHT
BEGIN:STANDARD
TZOFFSETFROM:-0400
TZOFFSETTO:-0500
TZNAME:EST
DTSTART:20211107T060000
END:STANDARD
BEGIN:DAYLIGHT
TZOFFSETFROM:-0500
TZOFFSETTO:-0400
TZNAME:EDT
DTSTART:20220313T070000
END:DAYLIGHT
BEGIN:STANDARD
TZOFFSETFROM:-0400
TZOFFSETTO:-0500
TZNAME:EST
DTSTART:20221106T060000
END:STANDARD
BEGIN:DAYLIGHT
TZOFFSETFROM:-0500
TZOFFSETTO:-0400
TZNAME:EDT
DTSTART:20230312T070000
END:DAYLIGHT
BEGIN:STANDARD
TZOFFSETFROM:-0400
TZOFFSETTO:-0500
TZNAME:EST
DTSTART:20231105T060000
END:STANDARD
BEGIN:DAYLIGHT
TZOFFSETFROM:-0500
TZOFFSETTO:-0400
TZNAME:EDT
DTSTART:20240310T070000
END:DAYLIGHT
BEGIN:STANDARD
TZOFFSETFROM:-0400
TZOFFSETTO:-0500
TZNAME:EST
DTSTART:20241103T060000
END:STANDARD
END:VTIMEZONE
BEGIN:VEVENT
DTSTART;TZID=America/New_York:20230617T080000
DTEND;TZID=America/New_York:20230617T130000
DTSTAMP:20260423T092637
CREATED:20221006T143946Z
LAST-MODIFIED:20221006T143946Z
UID:18181-1686988800-1687006800@www.backyardbutterflies.org
SUMMARY:7th Annual Open House & Plant Swap
DESCRIPTION:Join us for our 7th Annual Open House & Plant Swap. Please visit the event webpage for more information.
URL:https://www.backyardbutterflies.org/event/7th-annual-open-house-plant-swap/
LOCATION:Backyard Butterflies\, 1507 US HWY 70A East\, Hillsborough\, NC\, 27278\, United States
CATEGORIES:Outreach,Plant Sale
ATTACH;FMTTYPE=image/jpeg:https://www.backyardbutterflies.org/wp-content/uploads/2022/06/open-house-and-swap-1-scaled.jpg
ORGANIZER;CN="Backyard Butterflies":MAILTO:admin@backyardbutterflies.org
END:VEVENT
BEGIN:VEVENT
DTSTART;TZID=America/New_York:20220423T100000
DTEND;TZID=America/New_York:20220423T140000
DTSTAMP:20260423T092637
CREATED:20211221T180745Z
LAST-MODIFIED:20211221T180745Z
UID:14655-1650708000-1650722400@www.backyardbutterflies.org
SUMMARY:Earth Day at Sylvan Heights Bird Park
DESCRIPTION:Backyard Butterflies will be at Sylvan Heights Bird Park in Scotland Neck\, NC to participate in their Earth Day event. More info and links will be posted in 2022.
URL:https://www.backyardbutterflies.org/event/sylvan-earth-day/
LOCATION:Sylvan Heights Bird Park\, 500 Sylvan Heights Bird Park\, Scotland Neck\, North Carolina\, 27874
CATEGORIES:Outreach
END:VEVENT
BEGIN:VEVENT
DTSTART;TZID=America/New_York:20210619T080000
DTEND;TZID=America/New_York:20210619T140000
DTSTAMP:20260423T092637
CREATED:20210531T205115Z
LAST-MODIFIED:20210531T205735Z
UID:13113-1624089600-1624111200@www.backyardbutterflies.org
SUMMARY:5th Annual Open House & Plant Swap
DESCRIPTION:Join us for our 5th Annual Open House & Plant Swap. Learn how to create a butterfly habitat in your backyard and interact with butterflies.Tickets are donation-based with a suggested donation of $5 per ticket. Please visit the event webpage to get tickets. \nThis event is one day only\, rain or shine. Parking is extremely limited. Please carpool if you can! \nThe Open House\nOnce a year we open our home to allow the public to tour our backyard butterfly habitat so that you can learn how to create a butterfly and pollinator friendly space\, garden\, or habitat. \nOur primary source of funding for our organization is through the sale of common to rare butterfly host and nectar plants. We will have a selection of butterfly nectar and host plants available for purchase. We will also have a limited amount of free plants available on a first-come\, first-served basis. \nThe Plant Swap\nThe Plant Swap is our way of helping you and other members of our community to acquire plants at no cost to help you get started or supplement your garden. You are welcome to bring plants from your garden to swap with other participants. \nOur Story\nWe are a small non-profit that provides education\, community outreach\, and help people create backyard butterfly-friendly habitats. We began transforming our two acres in 2012 and our efforts have been a work in progress ever since. We have hand-raised almost 20 different butterfly species from plants either naturally occurring or placed within our habitat. Our habitat has a lifetime count of 71 species of butterfly observed. \nWe welcome adults and children. We love all pets but please leave them at home today. We do not have a public restroom at this time. All areas are grass covered and fairly level. Please contact us if you have any questions or have special needs.
URL:https://www.backyardbutterflies.org/event/5th-annual-open-house-plant-swap/
LOCATION:Backyard Butterflies\, 1507 US HWY 70A East\, Hillsborough\, NC\, 27278\, United States
CATEGORIES:Outreach,Plant Sale
ORGANIZER;CN="Backyard Butterflies":MAILTO:admin@backyardbutterflies.org
END:VEVENT
BEGIN:VEVENT
DTSTART;TZID=America/New_York:20200620T080000
DTEND;TZID=America/New_York:20200620T140000
DTSTAMP:20260423T092637
CREATED:20200523T144219Z
LAST-MODIFIED:20200528T190159Z
UID:7860-1592640000-1592661600@www.backyardbutterflies.org
SUMMARY:4th Annual Open House & Plant Swap
DESCRIPTION:Please visit our webpage for event details including FAQs and RSVP tickets.\n  \n\n\n\n\n\n\n\n\n\n\n\n\n\n\n 
URL:https://www.backyardbutterflies.org/event/openhouse2020/
LOCATION:Backyard Butterflies\, 1507 US HWY 70A East\, Hillsborough\, NC\, 27278\, United States
CATEGORIES:Outreach
ORGANIZER;CN="Backyard Butterflies":MAILTO:admin@backyardbutterflies.org
END:VEVENT
BEGIN:VEVENT
DTSTART;TZID=America/New_York:20191005T130000
DTEND;TZID=America/New_York:20191005T160000
DTSTAMP:20260423T092637
CREATED:20190803T163842Z
LAST-MODIFIED:20190803T164049Z
UID:3947-1570280400-1570291200@www.backyardbutterflies.org
SUMMARY:Bass Lake Day
DESCRIPTION:We will be conducting education and community outreach at Bass Lake Day. Come by an see what caterpillars or butterflies we have collected from our backyard habitat\, recent moth sightings\, and more! We plan to have some DIY butterfly related crafts for a quick make & take project.
URL:https://www.backyardbutterflies.org/event/bass-lake-day/
LOCATION:Sugg Farm\, 2401 Grigsby Ave.\, Holly Springs\, North Carolina\, 27540
CATEGORIES:Outreach
END:VEVENT
BEGIN:VEVENT
DTSTART;TZID=America/New_York:20190622T080000
DTEND;TZID=America/New_York:20190622T120000
DTSTAMP:20260423T092637
CREATED:20181115T051023Z
LAST-MODIFIED:20190619T190628Z
UID:572-1561190400-1561204800@www.backyardbutterflies.org
SUMMARY:Annual Open House & Plant Swap 2019
DESCRIPTION:Join us for our 3rd Annual Open House & Plant Swap on the Summer Solstice!  \nHow the Open House works\nWe open our habitat to allow members of our community to come see how we created our garden and habitat\, maintain it\, changes we make\, and what we continue to learn from observing it in action. We offer a guided tour of the habitat telling our story\, showcase our favorite plants\, discuss how everything has a role in the habitat\, and show you all of the life stages of various butterfly species currently in the yard. \nHow the Plant Swap works\n1. Bring a plant from your garden that is either a host plant or nectar plant for any pollinator. (See our suggested plant list.)\n2. Check in your plants with us upon arrival. For each plant you bring you’ll get 1 swap credit. Save time by filling out a Plant Swap Check In Sheet before you come and be sure to bring it with you!\n3. Use your credits to swap a plant with us\, or with plants others have brought to swap.\n4. Don’t have any plants to bring? No problem! We’ll have plants you can purchase. \nOpen House & Plant Swap List (Updated June 3\, 2019)
URL:https://www.backyardbutterflies.org/event/open-house-2019-2/
LOCATION:Backyard Butterflies\, 1507 US HWY 70A East\, Hillsborough\, NC\, 27278\, United States
CATEGORIES:Outreach,Plant Sale
ORGANIZER;CN="Backyard Butterflies":MAILTO:admin@backyardbutterflies.org
END:VEVENT
BEGIN:VEVENT
DTSTART;TZID=America/New_York:20190621T080000
DTEND;TZID=America/New_York:20190621T120000
DTSTAMP:20260423T092637
CREATED:20190306T193741Z
LAST-MODIFIED:20200519T131649Z
UID:3381-1561104000-1561118400@www.backyardbutterflies.org
SUMMARY:Annual Open House & Plant Swap 2019
DESCRIPTION:Join us for our 3rd Annual Open House & Plant Swap on the Summer Solstice!  \nHow the Open House works\nWe open our habitat to allow members of our community to come see how we created our garden and habitat\, maintain it\, changes we make\, and what we continue to learn from observing it in action. We offer a guided tour of the habitat telling our story\, showcase our favorite plants\, discuss how everything has a role in the habitat\, and show you all of the life stages of various butterfly species currently in the yard.\n\nHow the Plant Swap works\n1. Bring a plant from your garden that is either a host plant or nectar plant for any pollinator. (See our suggested plant list.)\n2. Check in your plants with us upon arrival. For each plant you bring you’ll get 1 swap credit. Save time by filling out a Plant Swap Check In Sheet before you come and be sure to bring it with you!\n3. Use your credits to swap a plant with us\, or with plants others have brought to swap.\n4. Don’t have any plants to bring? No problem! We’ll have plants you can purchase.\n\n \nSwap and Plant List for Open House (Updated June 3\, 2019)
URL:https://www.backyardbutterflies.org/event/open-house-2019/
LOCATION:Backyard Butterflies\, 1507 US HWY 70A East\, Hillsborough\, NC\, 27278\, United States
CATEGORIES:Outreach,Plant Sale
ORGANIZER;CN="Backyard Butterflies":MAILTO:admin@backyardbutterflies.org
END:VEVENT
BEGIN:VEVENT
DTSTART;TZID=America/New_York:20190525T100000
DTEND;TZID=America/New_York:20190525T140000
DTSTAMP:20260423T092637
CREATED:20181203T213818Z
LAST-MODIFIED:20190224T143920Z
UID:1463-1558778400-1558792800@www.backyardbutterflies.org
SUMMARY:Butterfly Day at Big Bloomers Flower Farm
DESCRIPTION:Caterpillar Workshop at Butterfly Day \nCome join us for our annual Butterfly Day hosted at Big Bloomers Flower Farm in Sanford! We will have our usual set-up and display\, conduct a free caterpillar raising workshop (normally $25)\, and give a talk about creating your own backyard butterfly habitat. We will also do a butterfly release in the afternoon if we have them available. \nNo registration is necessary. Caterpillar availability for workshops is subject to Mother Nature. The workshop is conducted on a first-come\, first-serve basis\, unless there are more people than available caterpillars. We will then do a lottery drawing. \nIn addition to the workshops and talks\, there will be butterfly DIY crafts and activities for kids and adults. \nBig Bloomers has a vast assortment of butterfly nectar and host plants\, and is the primary nursery we have used since 2012 to create our backyard habitat. They have multiple species of milkweed that is caterpillar safe!
URL:https://www.backyardbutterflies.org/event/butterfly-day-at-big-bloomers-flower-farm/
LOCATION:Big Bloomers Flower Farm\, 275 Pressly Foushee Rd\, Sanford\, North Carolina\, 27330
CATEGORIES:Outreach,Workshop
ORGANIZER;CN="Backyard Butterflies":MAILTO:admin@backyardbutterflies.org
END:VEVENT
BEGIN:VEVENT
DTSTART;TZID=America/New_York:20190518T100000
DTEND;TZID=America/New_York:20190518T140000
DTSTAMP:20260423T092637
CREATED:20190306T192540Z
LAST-MODIFIED:20190306T192540Z
UID:3363-1558173600-1558188000@www.backyardbutterflies.org
SUMMARY:Long Leaf Pine Festival 2019
DESCRIPTION:Join us at the Long Leaf Pine Festival at Harris Lake County Park! We will have a limited selection of host and nectar plants available for purchase. As always\, we will bring with us any live caterpillars or butterflies that are currently available from our habitat. \nWe will have a special exhibit about woodland butterflies. Woodland butterflies are a unique group of lepidoptera as they prefer or utilize other sources of food than flower nectar. Finding them for observation can be a bit tricky and typically requires going to remote locations.
URL:https://www.backyardbutterflies.org/event/long-leaf-pine-festival-2019/
LOCATION:Harris Lake County Park
CATEGORIES:Outreach
ATTACH;FMTTYPE=image/jpeg:https://www.backyardbutterflies.org/wp-content/uploads/2019/03/longleafpinefestival-e1551899550673.jpg
END:VEVENT
BEGIN:VEVENT
DTSTART;TZID=America/New_York:20190504T140000
DTEND;TZID=America/New_York:20190504T190000
DTSTAMP:20260423T092637
CREATED:20190417T212312Z
LAST-MODIFIED:20190417T213648Z
UID:3571-1556978400-1556996400@www.backyardbutterflies.org
SUMMARY:NCBG Spring Plant Sale
DESCRIPTION:We will be participating at the NCBG Spring Plant sale providing education and community outreach. We will have any caterpillars\, chrysalises\, and butterflies currently available from our habitat for education and demonstration. \nThe event features multiple native plant only vendors from around North Carolina. There will be other activities during the sale. For more information visit the event website at: http://ncbg.unc.edu/native-plant-sale/
URL:https://www.backyardbutterflies.org/event/ncbg-spring-plant-sale/
LOCATION:NCBG\, 100 Old Mason Farm Rd\, Chapel Hill\, North Carolina\, 27517
CATEGORIES:Outreach
ATTACH;FMTTYPE=image/jpeg:https://www.backyardbutterflies.org/wp-content/uploads/2018/12/john-1-of-1-e1555536226853.jpg
ORGANIZER;CN="Backyard Butterflies":MAILTO:admin@backyardbutterflies.org
END:VEVENT
BEGIN:VEVENT
DTSTART;TZID=America/New_York:20190427T100000
DTEND;TZID=America/New_York:20190427T140000
DTSTAMP:20260423T092637
CREATED:20190119T022352Z
LAST-MODIFIED:20190224T144059Z
UID:3035-1556359200-1556373600@www.backyardbutterflies.org
SUMMARY:Meet Your State Symbols 2019
DESCRIPTION:Come join us outside the capitol building\, or inside if it’s a rainy day! We’ll have our usual set-up along with any caterpillars or butterflies available from our habitat. We will have a small selection of plants and other butterfly related items for sale.
URL:https://www.backyardbutterflies.org/event/meet-your-state-symbols-2019/
LOCATION:Raleigh State Capitol\, 1 Edenton St\, Raleigh\, 27601
CATEGORIES:Outreach
ATTACH;FMTTYPE=image/jpeg:https://www.backyardbutterflies.org/wp-content/uploads/2019/01/IMG_20180519_094109528-e1550865219342.jpg
END:VEVENT
BEGIN:VEVENT
DTSTART;TZID=America/New_York:20190330T080000
DTEND;TZID=America/New_York:20190330T120000
DTSTAMP:20260423T092637
CREATED:20181120T184404Z
LAST-MODIFIED:20190222T195436Z
UID:998-1553932800-1553947200@www.backyardbutterflies.org
SUMMARY:Sarah P. Duke Gardens Plant Sale
DESCRIPTION:Backyard Butterflies will be at the Duke Gardens Spring Plant Sale! We will have an assortment of host and nectar plants for purchase–be sure to arrive early as our milkweeds sell out quickly! In addition to have plants we will have live butterflies and chrysalises on display if available\, as well as other educational materials\, and information about our organization. This event is our main fundraising activity for the year and we would greatly appreciate your support! \nWe can always use assistance to help out with this event. If you are interested in volunteering with us\, please contact us.
URL:https://www.backyardbutterflies.org/event/duke-gardens-plant-sale/
LOCATION:Sarah P. Duke Gardens\, 420 Anderson St\, Durham\, North Carolina\, 27708
CATEGORIES:Outreach,Plant Sale
ATTACH;FMTTYPE=image/jpeg:https://www.backyardbutterflies.org/wp-content/uploads/2018/11/dukeplantsale-1024x580.jpg
ORGANIZER;CN="Backyard Butterflies":MAILTO:admin@backyardbutterflies.org
END:VEVENT
END:VCALENDAR