BEGIN:VCALENDAR
VERSION:2.0
PRODID:-//Backyard Butterflies - ECPv6.15.20//NONSGML v1.0//EN
CALSCALE:GREGORIAN
METHOD:PUBLISH
X-WR-CALNAME:Backyard Butterflies
X-ORIGINAL-URL:https://www.backyardbutterflies.org
X-WR-CALDESC:Events for Backyard Butterflies
REFRESH-INTERVAL;VALUE=DURATION:PT1H
X-Robots-Tag:noindex
X-PUBLISHED-TTL:PT1H
BEGIN:VTIMEZONE
TZID:America/New_York
BEGIN:DAYLIGHT
TZOFFSETFROM:-0500
TZOFFSETTO:-0400
TZNAME:EDT
DTSTART:20240310T070000
END:DAYLIGHT
BEGIN:STANDARD
TZOFFSETFROM:-0400
TZOFFSETTO:-0500
TZNAME:EST
DTSTART:20241103T060000
END:STANDARD
BEGIN:DAYLIGHT
TZOFFSETFROM:-0500
TZOFFSETTO:-0400
TZNAME:EDT
DTSTART:20250309T070000
END:DAYLIGHT
BEGIN:STANDARD
TZOFFSETFROM:-0400
TZOFFSETTO:-0500
TZNAME:EST
DTSTART:20251102T060000
END:STANDARD
BEGIN:DAYLIGHT
TZOFFSETFROM:-0500
TZOFFSETTO:-0400
TZNAME:EDT
DTSTART:20260308T070000
END:DAYLIGHT
BEGIN:STANDARD
TZOFFSETFROM:-0400
TZOFFSETTO:-0500
TZNAME:EST
DTSTART:20261101T060000
END:STANDARD
END:VTIMEZONE
BEGIN:VEVENT
DTSTART;TZID=America/New_York:20250805T090000
DTEND;TZID=America/New_York:20250805T150000
DTSTAMP:20260423T195244
CREATED:20241211T184123Z
LAST-MODIFIED:20241216T171305Z
UID:29757-1754384400-1754406000@www.backyardbutterflies.org
SUMMARY:Guilford & Rockingham Counties NABA Count
DESCRIPTION:Join us Tuesday morning and afternoon for the 5th annual Guilford & Rockingham Counties NABA butterfly count! No previous experience required as new participants will be partnered with the count leaders. Experienced counters may be assigned their own area to cover. \nPlease submit this registration form to participate.\n\n\n\n\nGuilford & Rockingham Counties NABA Count\n\n\n\n\n\n\n\n\n    First Name\n        *\n    \n    \n    \n    \n\n\n    Last Name\n        *\n    \n    \n    \n    \n\n\n    Email\n        *\n    \n    \n    \n    \n\n\n    Have you ever participated in a NABA count before?\n        \n    \n    					\n					 Yes\n					\n					 No\n\n    \n    \n\n\n    Which NABA counts have you participated in?\n        \n    \n    					\n			 Orange County\n					\n			 Durham County\n					\n			 Guildford & Rockingham Counties\n					\n			 Weymouth Woods SP\n					\n			 Hanging Rock SP\n					\n			 Mayo River SP\n					\n			 Pilot Mountain SP\n					\n			 Dismal Swamp SP\n					\n			 Pettigrew SP\n\n    \n    \n\n\n    How do you rate your butterfly identification abilities?\n        \n    \n    					\n					 I'm a beginner. I recognize Monarchs and Tiger Swallowtails.\n					\n					 I'm intermediate. I know all of the Swallowtails and the common Brushfoots.\n					\n					 I'm experienced\, but have trouble with grass skippers and duskywings.\n					\n					 I'm an expert. Duskywings and grass skippers tremble in my presence!\n					\n					 OtherOther\n\n    \n    \n\n\n    Your Message or Comments\n        \n    \n    \n    \n    \n\n	\n			\n			\n				If you are human\, leave this field blank.			\n			\n		\n		\n\nSubmit
URL:https://www.backyardbutterflies.org/event/guilford-rockingham-2025/
LOCATION:Iron Ore Belt Access\, 6068 N Church St\, Greensboro\, NC\, 27455\, United States
CATEGORIES:NABA Count
ATTACH;FMTTYPE=image/jpeg:https://www.backyardbutterflies.org/wp-content/uploads/2021/08/aug-10-Guilford-NABA-0910.jpg
ORGANIZER;CN="Backyard Butterflies":MAILTO:admin@backyardbutterflies.org
END:VEVENT
END:VCALENDAR