BEGIN:VCALENDAR
VERSION:2.0
PRODID:-//Backyard Butterflies - ECPv6.15.20//NONSGML v1.0//EN
CALSCALE:GREGORIAN
METHOD:PUBLISH
X-WR-CALNAME:Backyard Butterflies
X-ORIGINAL-URL:https://www.backyardbutterflies.org
X-WR-CALDESC:Events for Backyard Butterflies
REFRESH-INTERVAL;VALUE=DURATION:PT1H
X-Robots-Tag:noindex
X-PUBLISHED-TTL:PT1H
BEGIN:VTIMEZONE
TZID:America/New_York
BEGIN:DAYLIGHT
TZOFFSETFROM:-0500
TZOFFSETTO:-0400
TZNAME:EDT
DTSTART:20230312T070000
END:DAYLIGHT
BEGIN:STANDARD
TZOFFSETFROM:-0400
TZOFFSETTO:-0500
TZNAME:EST
DTSTART:20231105T060000
END:STANDARD
BEGIN:DAYLIGHT
TZOFFSETFROM:-0500
TZOFFSETTO:-0400
TZNAME:EDT
DTSTART:20240310T070000
END:DAYLIGHT
BEGIN:STANDARD
TZOFFSETFROM:-0400
TZOFFSETTO:-0500
TZNAME:EST
DTSTART:20241103T060000
END:STANDARD
BEGIN:DAYLIGHT
TZOFFSETFROM:-0500
TZOFFSETTO:-0400
TZNAME:EDT
DTSTART:20250309T070000
END:DAYLIGHT
BEGIN:STANDARD
TZOFFSETFROM:-0400
TZOFFSETTO:-0500
TZNAME:EST
DTSTART:20251102T060000
END:STANDARD
END:VTIMEZONE
BEGIN:VEVENT
DTSTART;TZID=America/New_York:20240820T090000
DTEND;TZID=America/New_York:20240820T150000
DTSTAMP:20260425T065859
CREATED:20240116T182304Z
LAST-MODIFIED:20240116T183806Z
UID:27792-1724144400-1724166000@www.backyardbutterflies.org
SUMMARY:Mayo River SP NABA Count
DESCRIPTION:This is an estimated date of the count. Actual date of the count is subject to change. \nJoin us at Mayo River State Park for the annual NABA butterfly count. No previous experience required. Contact Brian Bockhahn to register to participate. \n  \n 
URL:https://www.backyardbutterflies.org/event/mayo-river-sp-naba-count-2/
LOCATION:Mayo River State Park\, 500 Old Mayo Park Road\, Mayodan\, North Carolina\, 27027
CATEGORIES:NABA Count
ATTACH;FMTTYPE=image/jpeg:https://www.backyardbutterflies.org/wp-content/uploads/2021/12/Mayo-River-SP.jpg
END:VEVENT
END:VCALENDAR