BEGIN:VCALENDAR
VERSION:2.0
PRODID:-//Backyard Butterflies - ECPv6.15.20//NONSGML v1.0//EN
CALSCALE:GREGORIAN
METHOD:PUBLISH
X-WR-CALNAME:Backyard Butterflies
X-ORIGINAL-URL:https://www.backyardbutterflies.org
X-WR-CALDESC:Events for Backyard Butterflies
REFRESH-INTERVAL;VALUE=DURATION:PT1H
X-Robots-Tag:noindex
X-PUBLISHED-TTL:PT1H
BEGIN:VTIMEZONE
TZID:America/New_York
BEGIN:DAYLIGHT
TZOFFSETFROM:-0500
TZOFFSETTO:-0400
TZNAME:EDT
DTSTART:20180311T070000
END:DAYLIGHT
BEGIN:STANDARD
TZOFFSETFROM:-0400
TZOFFSETTO:-0500
TZNAME:EST
DTSTART:20181104T060000
END:STANDARD
BEGIN:DAYLIGHT
TZOFFSETFROM:-0500
TZOFFSETTO:-0400
TZNAME:EDT
DTSTART:20190310T070000
END:DAYLIGHT
BEGIN:STANDARD
TZOFFSETFROM:-0400
TZOFFSETTO:-0500
TZNAME:EST
DTSTART:20191103T060000
END:STANDARD
BEGIN:DAYLIGHT
TZOFFSETFROM:-0500
TZOFFSETTO:-0400
TZNAME:EDT
DTSTART:20200308T070000
END:DAYLIGHT
BEGIN:STANDARD
TZOFFSETFROM:-0400
TZOFFSETTO:-0500
TZNAME:EST
DTSTART:20201101T060000
END:STANDARD
BEGIN:DAYLIGHT
TZOFFSETFROM:-0500
TZOFFSETTO:-0400
TZNAME:EDT
DTSTART:20210314T070000
END:DAYLIGHT
BEGIN:STANDARD
TZOFFSETFROM:-0400
TZOFFSETTO:-0500
TZNAME:EST
DTSTART:20211107T060000
END:STANDARD
BEGIN:DAYLIGHT
TZOFFSETFROM:-0500
TZOFFSETTO:-0400
TZNAME:EDT
DTSTART:20220313T070000
END:DAYLIGHT
BEGIN:STANDARD
TZOFFSETFROM:-0400
TZOFFSETTO:-0500
TZNAME:EST
DTSTART:20221106T060000
END:STANDARD
BEGIN:DAYLIGHT
TZOFFSETFROM:-0500
TZOFFSETTO:-0400
TZNAME:EDT
DTSTART:20230312T070000
END:DAYLIGHT
BEGIN:STANDARD
TZOFFSETFROM:-0400
TZOFFSETTO:-0500
TZNAME:EST
DTSTART:20231105T060000
END:STANDARD
BEGIN:DAYLIGHT
TZOFFSETFROM:-0500
TZOFFSETTO:-0400
TZNAME:EDT
DTSTART:20240310T070000
END:DAYLIGHT
BEGIN:STANDARD
TZOFFSETFROM:-0400
TZOFFSETTO:-0500
TZNAME:EST
DTSTART:20241103T060000
END:STANDARD
BEGIN:DAYLIGHT
TZOFFSETFROM:-0500
TZOFFSETTO:-0400
TZNAME:EDT
DTSTART:20250309T070000
END:DAYLIGHT
BEGIN:STANDARD
TZOFFSETFROM:-0400
TZOFFSETTO:-0500
TZNAME:EST
DTSTART:20251102T060000
END:STANDARD
BEGIN:DAYLIGHT
TZOFFSETFROM:-0500
TZOFFSETTO:-0400
TZNAME:EDT
DTSTART:20260308T070000
END:DAYLIGHT
BEGIN:STANDARD
TZOFFSETFROM:-0400
TZOFFSETTO:-0500
TZNAME:EST
DTSTART:20261101T060000
END:STANDARD
BEGIN:DAYLIGHT
TZOFFSETFROM:-0500
TZOFFSETTO:-0400
TZNAME:EDT
DTSTART:20270314T070000
END:DAYLIGHT
BEGIN:STANDARD
TZOFFSETFROM:-0400
TZOFFSETTO:-0500
TZNAME:EST
DTSTART:20271107T060000
END:STANDARD
END:VTIMEZONE
BEGIN:VEVENT
DTSTART;TZID=America/New_York:20260328T190000
DTEND;TZID=America/New_York:20260328T220000
DTSTAMP:20260423T050110
CREATED:20260313T145219Z
LAST-MODIFIED:20260313T150224Z
UID:32660-1774724400-1774735200@www.backyardbutterflies.org
SUMMARY:March 28 - Moth Night at Brumley NP
DESCRIPTION:We’re starting off our expanded series of moth nights in 2026 with an early March date. Attendees are encouraged to visit seasonally to see the “limited time only” moths that have a short flight period during the early spring. These species are seen only this time of year – so don’t miss your chance to meet some new moth friends! \nFor our moth events we recommend wearing proper outdoor attire like for hiking: long pants\, sturdy close-toe shoes\, snug fitting shirts. Dress for safety and warmth\, not necessarily for comfort.  \nBring with you a headlamp or flashlight. Camera is optional\, but encouraged to be part of the citizen science! \nRegistration is required for this event. Click below to register for this event: \nMoth Night
URL:https://www.backyardbutterflies.org/event/march-28-mothnight/
LOCATION:Brumley Forest NP\, 3055 New Hope Church Rd\, Chapel Hill\, NC\, 27514
CATEGORIES:Moth Night
ATTACH;FMTTYPE=image/png:https://www.backyardbutterflies.org/wp-content/uploads/2026/03/March-28-Moth-Night.png
ORGANIZER;CN="Backyard Butterflies":MAILTO:admin@backyardbutterflies.org
END:VEVENT
BEGIN:VEVENT
DTSTART;TZID=America/New_York:20240720T203000
DTEND;TZID=America/New_York:20240720T233000
DTSTAMP:20260423T050110
CREATED:20240111T225049Z
LAST-MODIFIED:20240111T225118Z
UID:27648-1721507400-1721518200@www.backyardbutterflies.org
SUMMARY:6th Annual Moth Night
DESCRIPTION:
URL:https://www.backyardbutterflies.org/event/6th-annual-moth-night/
LOCATION:Backyard Butterflies\, 1507 US HWY 70A East\, Hillsborough\, NC\, 27278\, United States
CATEGORIES:Moth Night
ATTACH;FMTTYPE=image/png:https://www.backyardbutterflies.org/wp-content/uploads/2023/02/Annual-Moth-Night-Square.png
ORGANIZER;CN="Backyard Butterflies":MAILTO:admin@backyardbutterflies.org
END:VEVENT
BEGIN:VEVENT
DTSTART;TZID=America/New_York:20240601T203000
DTEND;TZID=America/New_York:20240601T233000
DTSTAMP:20260423T050110
CREATED:20240111T225348Z
LAST-MODIFIED:20240111T225731Z
UID:27650-1717273800-1717284600@www.backyardbutterflies.org
SUMMARY:Hillsborough Moth Crawl 2024
DESCRIPTION:
URL:https://www.backyardbutterflies.org/event/hillsborough-moth-crawl-2024/
LOCATION:Backyard Butterflies\, 1507 US HWY 70A East\, Hillsborough\, NC\, 27278\, United States
CATEGORIES:Moth Night
ATTACH;FMTTYPE=image/png:https://www.backyardbutterflies.org/wp-content/uploads/2023/10/Moth-Crawl-2024.png
ORGANIZER;CN="Backyard Butterflies":MAILTO:admin@backyardbutterflies.org
END:VEVENT
BEGIN:VEVENT
DTSTART;TZID=America/New_York:20230722T203000
DTEND;TZID=America/New_York:20230722T233000
DTSTAMP:20260423T050110
CREATED:20221006T144139Z
LAST-MODIFIED:20230626T203744Z
UID:18183-1690057800-1690068600@www.backyardbutterflies.org
SUMMARY:5th Annual Moth Night
DESCRIPTION:Join us for our 5th Annual Moth Night during National Moth Week. Please visit the event webpage for more information.
URL:https://www.backyardbutterflies.org/event/5th-annual-moth-night/
LOCATION:Backyard Butterflies\, 1507 US HWY 70A East\, Hillsborough\, NC\, 27278\, United States
CATEGORIES:Moth Night
ATTACH;FMTTYPE=image/png:https://www.backyardbutterflies.org/wp-content/uploads/2022/10/Moth-Night-2023-1200-×-628-px.png
ORGANIZER;CN="Backyard Butterflies":MAILTO:admin@backyardbutterflies.org
END:VEVENT
BEGIN:VEVENT
DTSTART;TZID=America/New_York:20230624T083000
DTEND;TZID=America/New_York:20230624T233000
DTSTAMP:20260423T050110
CREATED:20221006T150442Z
LAST-MODIFIED:20221006T150511Z
UID:18200-1687595400-1687649400@www.backyardbutterflies.org
SUMMARY:Hillsborough Moth Crawl
DESCRIPTION:Join us for our first-ever Moth Crawl! More information on the event webpage.
URL:https://www.backyardbutterflies.org/event/hillsborough-moth-crawl/
LOCATION:Backyard Butterflies\, 1507 US HWY 70A East\, Hillsborough\, NC\, 27278\, United States
CATEGORIES:Moth Night
ATTACH;FMTTYPE=image/png:https://www.backyardbutterflies.org/wp-content/uploads/2022/10/Moth-Crawl-Sky-Header-2.png
ORGANIZER;CN="Backyard Butterflies":MAILTO:admin@backyardbutterflies.org
END:VEVENT
BEGIN:VEVENT
DTSTART;TZID=America/New_York:20220723T203000
DTEND;TZID=America/New_York:20220723T233000
DTSTAMP:20260423T050110
CREATED:20211221T135958Z
LAST-MODIFIED:20220615T234730Z
UID:14632-1658608200-1658619000@www.backyardbutterflies.org
SUMMARY:4th Annual Moth Night at Backyard Butterflies
DESCRIPTION:Please join us for our 4th Annual Moth Night at Backyard Butterflies in Hillsborough\, NC. Our annual moth night is in celebration of National Moth Week. \nAll ages are welcome but we recommend children be at least 8+ years old. All kids must be accompanied by an adult. No pets please. \nPlease note you will be coming to a private residence. We live in a quiet neighborhood. \nThis event is highly weather dependent. If it’s rainy or forecast to rain this event will either be cancelled or rescheduled. A tentative reschedule date is July 23\, 2022. \nWhat Equipment We Use: We will be using a 40-watt 24 inch UV light and a 160-watt mercury vapor light. We may optionally use a 400-watt metal halide light. \nWhat We Provide: We will have UV protection glasses available\, DEET based insect repellent\, and sunscreen. We will also have two lighted magnifying glasses. \nWhat to Bring: Please bring a flashlight or wear a headlamp. You may wish to apply bug repellent. We recommend wearing sturdy shoes and long pants. Be sure to bring along your favorite moth field guide and camera! You are welcome to bring a lawn chair\, snacks\, and non-alcoholic beverage. \nWhat to Expect: It can be quite “buggy” around the collecting sheet. The lights attract more than just moths. We will see all kinds of insects! \nAbout Our Ticketing: Parking space is limited. All ticket types are per car and limited to one per order. You can have as many people in your car as you like or fit! Tickets are free or donation-based. We suggest a minimum donation of $5. \nIf you have any questions\, please contact us at hello@backyardbutterflies.org. Please visit our event website for more information and to get tickets: https://www.backyardbutterflies.org/moth-night/ \nTo view moths we have seen on our collecting sheet\, visit our Moth Gallery.
URL:https://www.backyardbutterflies.org/event/4th-annual-moth-night-at-backyard-butterflies/
LOCATION:Backyard Butterflies\, 1507 US HWY 70A East\, Hillsborough\, NC\, 27278\, United States
CATEGORIES:Moth Night
ATTACH;FMTTYPE=image/png:https://www.backyardbutterflies.org/wp-content/uploads/2021/12/Moth-Night-Background-2.png
ORGANIZER;CN="Backyard Butterflies":MAILTO:admin@backyardbutterflies.org
END:VEVENT
BEGIN:VEVENT
DTSTART;TZID=America/New_York:20210717T203000
DTEND;TZID=America/New_York:20210717T233000
DTSTAMP:20260423T050110
CREATED:20210713T132518Z
LAST-MODIFIED:20210713T132518Z
UID:13219-1626553800-1626564600@www.backyardbutterflies.org
SUMMARY:3rd Annual Moth Night at Backyard Butterflies
DESCRIPTION:Please join us for our 3rd Annual Moth Night at Backyard Butterflies in Hillsborough\, NC. Our annual moth night is in celebration of National Moth Week. \nAll ages are welcome but we recommend children be at least 8+ years old. All kids must be accompanied by an adult. No pets please. \nPlease note you will be coming to a private residence. We live in a quiet neighborhood. \nThis event is highly weather dependent. If it’s rainy or forecast to rain this event will either be cancelled or rescheduled. A tentative reschedule date is July 24\, 2021. \nWhat Equipment We Use: We will be using a 40-watt 24 inch UV light and a 160-watt mercury vapor light. We may optionally use a 400-watt metal halide light. \nWhat We Provide: We will have UV protection glasses available\, DEET based insect repellent\, and sunscreen. We will also have two lighted magnifying glasses. \nWhat to Bring: Please bring a flashlight or wear a headlamp. You may wish to apply bug repellent. We recommend wearing sturdy shoes and long pants. Be sure to bring along your favorite moth field guide and camera! You are welcome to bring a lawn chair\, snacks\, and non-alcoholic beverage. \nWhat to Expect: It can be quite “buggy” around the collecting sheet. The lights attract more than just moths. We will see all kinds of insects! \nAbout Our Ticketing: Parking space is limited. All ticket types are per car and limited to one per order. You can have as many people in your car as you like or fit! Tickets are free or donation-based. We suggest a minimum donation of $5. \nIf you have any questions\, please contact us at hello@backyardbutterflies.org. Please visit our event website for more information: https://www.backyardbutterflies.org/moth-night/ \nTo view moths we have seen on our collecting sheet\, visit our Moth Gallery.
URL:https://www.backyardbutterflies.org/event/3rd-annual-moth-night-at-backyard-butterflies/
LOCATION:Backyard Butterflies\, 1507 US HWY 70A East\, Hillsborough\, NC\, 27278\, United States
CATEGORIES:Moth Night
ORGANIZER;CN="Backyard Butterflies":MAILTO:admin@backyardbutterflies.org
END:VEVENT
BEGIN:VEVENT
DTSTART;TZID=America/New_York:20191012T193000
DTEND;TZID=America/New_York:20191013T193000
DTSTAMP:20260423T050110
CREATED:20190913T221333Z
LAST-MODIFIED:20190914T001538Z
UID:4123-1570908600-1570995000@www.backyardbutterflies.org
SUMMARY:Fall Moth Night
DESCRIPTION:Join us for an evening of moth-ing in our backyard habitat! We will be firing up our 400 watt metal halide and 40 watt UV light to bring all of the moths to the yard! This moth night is a practical supplement to the presentation at Wild Birds Unlimited in Chapel Hill on moths. \nIf you have never attended a moth collecting before\, please be aware that you may want to apply sunscreen to your face to prevent skin damage. We have a limited number of UV safety glasses for you to use during your visit. \nPlease bring a flashlight or wear a headlamp. You may wish to apply bug repellent. We recommend wearing sturdy shoes and long pants. Be sure to bring along your favorite moth field guide and camera! \nPlease note you will be coming to a private residence in a quiet neighborhood. \nParking space is limited and we require that you RSVP per car. You can have as many people in your car as you like or fit! If you have any questions or comments\, please contact us! \nHow to Register & RSVP \nParking space is limited and we require that you RSVP per car. You can have as many people in your car as you like or fit! If you have any questions or comments\, please contact us! \n \nStep 1: Click on the purple REGISTER button. Fill out the form that will appear on the page. Click SUBMIT. \nStep 2: Under RSVP enter 1\, then click on the COMFIRM RSVP button. You will receive an email from WORDPRESS containing your RSVP. \n \nStep 3: Optional. Please consider making a donation to Backyard Butterflies to help with costs and expenses. We appreciate your support! \n  \n[rtec-registration-form]
URL:https://www.backyardbutterflies.org/event/fall-moth-night/
LOCATION:Backyard Butterflies\, 1507 US HWY 70A East\, Hillsborough\, NC\, 27278\, United States
CATEGORIES:Moth Night
ORGANIZER;CN="Backyard Butterflies":MAILTO:admin@backyardbutterflies.org
END:VEVENT
BEGIN:VEVENT
DTSTART;TZID=America/New_York:20190728T210000
DTEND;TZID=America/New_York:20190728T230000
DTSTAMP:20260423T050110
CREATED:20181208T215533Z
LAST-MODIFIED:20190619T212442Z
UID:1792-1564347600-1564354800@www.backyardbutterflies.org
SUMMARY:National Moth Week: Family Moth Night
DESCRIPTION:Join us at Backyard Butterflies for Adult Moth Night in celebration of National Moth Week!\nWe are firing up our moth lights in the backyard! Come see what we attract to our collecting sheet! \nPlease bring a flashlight or wear a headlamp. You may wish to apply bug repellent. We recommend wearing sturdy shoes and long pants. Be sure to bring along your favorite moth field guide and camera! \nAll ages are welcome but we recommend children be at least 8+ years old. All kids must be accompanied by an adult.  \nWe are also hosting an Adult Month Night on Saturday\, July 27.  \nPlease note you will be coming to a private residence. We live in a quiet neighborhood.  \nHow to Register & RSVP \nParking space is limited and we require that you RSVP per car. You can have as many people in your car as you like or fit! If you have any questions or comments\, please contact us! \n \nStep 1: Click on the purple REGISTER button. Fill out the form that will appear on the page. Click SUBMIT. \nStep 2: Under RSVP enter 1\, then click on the COMFIRM RSVP button. You will receive an email from WORDPRESS containing your RSVP. \n \nStep 3: Optional. Please consider making a donation to Backyard Butterflies to help with costs and expenses. We appreciate your support! \n  \n[rtec-registration-form]
URL:https://www.backyardbutterflies.org/event/family-moth-night/
LOCATION:Backyard Butterflies\, 1507 US HWY 70A East\, Hillsborough\, NC\, 27278\, United States
CATEGORIES:Moth Night
ORGANIZER;CN="Backyard Butterflies":MAILTO:admin@backyardbutterflies.org
END:VEVENT
BEGIN:VEVENT
DTSTART;TZID=America/New_York:20190727T210000
DTEND;TZID=America/New_York:20190728T000000
DTSTAMP:20260423T050110
CREATED:20190617T003052Z
LAST-MODIFIED:20190619T213332Z
UID:3663-1564261200-1564272000@www.backyardbutterflies.org
SUMMARY:National Moth Week: Adult Moth Night
DESCRIPTION:Join us at Backyard Butterflies for Adult Moth Night in celebration of National Moth Week!\nWe are firing up our moth lights in the backyard! Come see what we attract to our collecting sheet! \nPlease bring a flashlight or wear a headlamp. You may wish to apply bug repellent. We recommend wearing sturdy shoes and long pants. Be sure to bring along your favorite moth field guide and camera! \nThis Moth Night is for adults only. We are also hosting a Family Moth Night on Sunday\, July 28. \nPlease note you will be coming to a private residence. We live in a quiet neighborhood.  \nHow to Register & RSVP \nParking space is limited and we require that you RSVP per car. You can have as many people in your car as you like or fit! If you have any questions or comments\, please contact us! \n \nStep 1: Click on the purple REGISTER button. Fill out the form that will appear on the page. Click SUBMIT. \nStep 2: Under RSVP enter 1\, then click on the COMFIRM RSVP button. You will receive an email from WORDPRESS containing your RSVP. \n \nStep 3: Optional. Please consider making a donation to Backyard Butterflies to help with costs and expenses. We appreciate your support! \n  \n[rtec-registration-form]
URL:https://www.backyardbutterflies.org/event/adult-moth-night/
LOCATION:Backyard Butterflies\, 1507 US HWY 70A East\, Hillsborough\, NC\, 27278\, United States
CATEGORIES:Moth Night
ORGANIZER;CN="Backyard Butterflies":MAILTO:admin@backyardbutterflies.org
END:VEVENT
END:VCALENDAR