BEGIN:VCALENDAR
VERSION:2.0
PRODID:-//Backyard Butterflies - ECPv6.15.20//NONSGML v1.0//EN
CALSCALE:GREGORIAN
METHOD:PUBLISH
X-WR-CALNAME:Backyard Butterflies
X-ORIGINAL-URL:https://www.backyardbutterflies.org
X-WR-CALDESC:Events for Backyard Butterflies
REFRESH-INTERVAL;VALUE=DURATION:PT1H
X-Robots-Tag:noindex
X-PUBLISHED-TTL:PT1H
BEGIN:VTIMEZONE
TZID:America/New_York
BEGIN:DAYLIGHT
TZOFFSETFROM:-0500
TZOFFSETTO:-0400
TZNAME:EDT
DTSTART:20180311T070000
END:DAYLIGHT
BEGIN:STANDARD
TZOFFSETFROM:-0400
TZOFFSETTO:-0500
TZNAME:EST
DTSTART:20181104T060000
END:STANDARD
BEGIN:DAYLIGHT
TZOFFSETFROM:-0500
TZOFFSETTO:-0400
TZNAME:EDT
DTSTART:20190310T070000
END:DAYLIGHT
BEGIN:STANDARD
TZOFFSETFROM:-0400
TZOFFSETTO:-0500
TZNAME:EST
DTSTART:20191103T060000
END:STANDARD
BEGIN:DAYLIGHT
TZOFFSETFROM:-0500
TZOFFSETTO:-0400
TZNAME:EDT
DTSTART:20200308T070000
END:DAYLIGHT
BEGIN:STANDARD
TZOFFSETFROM:-0400
TZOFFSETTO:-0500
TZNAME:EST
DTSTART:20201101T060000
END:STANDARD
END:VTIMEZONE
BEGIN:VEVENT
DTSTART;TZID=America/New_York:20190826T093000
DTEND;TZID=America/New_York:20190826T110000
DTSTAMP:20260423T105042
CREATED:20190812T210721Z
LAST-MODIFIED:20190812T210816Z
UID:3962-1566811800-1566817200@www.backyardbutterflies.org
SUMMARY:Central Park School for Children Habitat Tour
DESCRIPTION:We love conducting tours\, classes\, and workshops for school groups! Please visit our Education Page for information about what we offer and to schedule with us.
URL:https://www.backyardbutterflies.org/event/central-park-school-for-children-habitat-tour/
LOCATION:Backyard Butterflies\, 1507 US HWY 70A East\, Hillsborough\, NC\, 27278\, United States
CATEGORIES:Class
END:VEVENT
BEGIN:VEVENT
DTSTART;TZID=America/New_York:20190420T100000
DTEND;TZID=America/New_York:20190420T120000
DTSTAMP:20260423T105043
CREATED:20181203T222251Z
LAST-MODIFIED:20190116T175230Z
UID:1484-1555754400-1555761600@www.backyardbutterflies.org
SUMMARY:Let's Go Butterflying!
DESCRIPTION:Join us 10 AM to 12 PM for a class to learn how to identify butterflies in your backyard or in nature by using butterfly behaviors\, field guides\, recognition of host plants\, location\, habitat\, as well as a few tips and tricks. \nThen put your newly learned identification skills to use in the afternoon! Join us from 2-4 PM for a butterfly walk at Brumley Forest Nature Preserve in Chapel Hill. \nWe’ve partnered with Alicia and Chuck of Wild Birds Unlimited in Chapel Hill who have graciously offered to host this class. Class size is limited to 25 seats. Please call (919) 969-6778 to register and reserve your spot. \nClass content is suitable for ages 10 to adult. Participants will receive a packet of materials to assist them with identification.
URL:https://www.backyardbutterflies.org/event/lets-go-butterflying/
LOCATION:Wild Birds Unlimited\, 1806 M.L.K. Jr Blvd\, Chapel Hill\, North Carolina\, 27514
CATEGORIES:Class
ORGANIZER;CN="Backyard Butterflies":MAILTO:admin@backyardbutterflies.org
END:VEVENT
BEGIN:VEVENT
DTSTART;TZID=America/New_York:20190420T100000
DTEND;TZID=America/New_York:20190420T120000
DTSTAMP:20260423T105043
CREATED:20181130T222944Z
LAST-MODIFIED:20190116T175430Z
UID:570-1555754400-1555761600@www.backyardbutterflies.org
SUMMARY:Brumley Forest Earth Day Walk
DESCRIPTION:[dimage attachment_id=”1428″ control=true auto-rotate=true zoom_level=”50″ anim_speed=”0.25″]\nThis walk is the practical half of the Let’s Go Butterflying class hosted at Wild Birds Unlimited in Chapel Hill. Everyone is welcome to participate in the walk–attendance of the class is not necessary. \nThis walk will cover multiple areas where the first butterflies of the year can be seen. We expect to have sightings of American Ladies\, Common Buckeyes\, Orange Sulphurs\, newly arrived Monarchs\, Tiger Swallowtails\, assorted early Hairstreaks\, anglewings\, and maybe a grass skipper or two. We will show you a known butterfly puddling spot\, and if it has recently rained we may get lucky to see a gathering of Tiger Swallowtails. \nBrumley has an impressive stand of common milkweeds that will be starting to grow. We might be able to see caterpillars if the spring proves to be warm. \nBe sure to bring a camera as there is always something photoworthy while hiking through the preserve. We recommend wearing hiking shoes or boots as the trails can be muddy. Bug spray is optional as it is still early in the season. Please bring beverages or a snack if you require them. A questionable port-a-potty is available. No flush toilets or other amenities. The town of Hillsborough is about three miles away.
URL:https://www.backyardbutterflies.org/event/brumley-forest-earth-day-walk/
LOCATION:Brumley Forest NP\, 3055 New Hope Church Rd\, Chapel Hill\, NC\, 27514
CATEGORIES:Class,Walks
ATTACH;FMTTYPE=image/jpeg:https://www.backyardbutterflies.org/wp-content/uploads/2018/11/april26-7-of-34-e1547661202544.jpg
ORGANIZER;CN="Backyard Butterflies":MAILTO:admin@backyardbutterflies.org
END:VEVENT
END:VCALENDAR